Package: GRmetrics Version: 1.33.0 Command: chmod a+r GRmetrics -R && E:\biocbuild\bbs-3.21-bioc\R\bin\R.exe CMD build --keep-empty-dirs --no-resave-data GRmetrics StartedAt: 2025-02-09 19:05:17 -0500 (Sun, 09 Feb 2025) EndedAt: 2025-02-09 19:06:27 -0500 (Sun, 09 Feb 2025) EllapsedTime: 70.5 seconds RetCode: 0 Status: OK PackageFile: GRmetrics_1.33.0.tar.gz PackageFileSize: 1.617 MiB