Package: GRmetrics Version: 1.33.0 Command: E:\biocbuild\bbs-3.21-bioc\R\bin\R.exe CMD check --no-multiarch --install=check:GRmetrics.install-out.txt --library=E:\biocbuild\bbs-3.21-bioc\R\library --no-vignettes --timings GRmetrics_1.33.0.tar.gz StartedAt: 2025-02-10 01:44:51 -0500 (Mon, 10 Feb 2025) EndedAt: 2025-02-10 01:47:37 -0500 (Mon, 10 Feb 2025) EllapsedTime: 165.7 seconds RetCode: 0 Status: OK CheckDir: GRmetrics.Rcheck Warnings: 0