Package: GSCA Version: 2.37.0 Maintainer: Zhicheng Ji MaintainerEmail: zji4 at jhu.edu git_url: https://git.bioconductor.org/packages/GSCA git_branch: devel git_last_commit: b2008f7 git_last_commit_date: 2024-10-29 09:50:12 -0500 (Tue, 29 Oct 2024)