Package: GSCA Version: 2.37.0 Command: /Library/Frameworks/R.framework/Resources/bin/R CMD build --keep-empty-dirs --no-resave-data GSCA StartedAt: 2025-02-09 16:32:53 -0500 (Sun, 09 Feb 2025) EndedAt: 2025-02-09 16:33:01 -0500 (Sun, 09 Feb 2025) EllapsedTime: 8.1 seconds RetCode: 0 Status: OK PackageFile: GSCA_2.37.0.tar.gz PackageFileSize: 2.288 MiB