Package: GSCA Version: 2.37.0 Command: /home/biocbuild/R/R/bin/R CMD INSTALL GSCA StartedAt: 2025-01-29 20:05:41 -0000 (Wed, 29 Jan 2025) EndedAt: 2025-01-29 20:05:49 -0000 (Wed, 29 Jan 2025) EllapsedTime: 7.8 seconds RetCode: 0 Status: OK