Package: GSCA Version: 2.37.0 Command: /home/biocbuild/bbs-3.21-bioc/R/bin/R CMD build --keep-empty-dirs --no-resave-data GSCA StartedAt: 2025-02-04 17:29:48 -0500 (Tue, 04 Feb 2025) EndedAt: 2025-02-04 17:30:04 -0500 (Tue, 04 Feb 2025) EllapsedTime: 16.0 seconds RetCode: 0 Status: OK PackageFile: GSCA_2.37.0.tar.gz PackageFileSize: 2.288 MiB