Package: GSCA Version: 2.37.0 Command: rm -rf GSCA.buildbin-libdir && mkdir GSCA.buildbin-libdir && E:\biocbuild\bbs-3.21-bioc\R\bin\R.exe CMD INSTALL --build --library=GSCA.buildbin-libdir GSCA_2.37.0.tar.gz StartedAt: 2025-02-10 07:53:36 -0500 (Mon, 10 Feb 2025) EndedAt: 2025-02-10 07:53:48 -0500 (Mon, 10 Feb 2025) EllapsedTime: 12.0 seconds RetCode: 0 Status: OK PackageFile: GSCA_2.37.0.zip PackageFileSize: 2.246 MiB