Package: GSCA Version: 2.37.0 Command: chmod a+r GSCA -R && E:\biocbuild\bbs-3.21-bioc\R\bin\R.exe CMD build --keep-empty-dirs --no-resave-data GSCA StartedAt: 2025-02-09 19:06:12 -0500 (Sun, 09 Feb 2025) EndedAt: 2025-02-09 19:06:43 -0500 (Sun, 09 Feb 2025) EllapsedTime: 30.8 seconds RetCode: 0 Status: OK PackageFile: GSCA_2.37.0.tar.gz PackageFileSize: 2.187 MiB