Package: GSCA Version: 2.37.0 Command: E:\biocbuild\bbs-3.21-bioc\R\bin\R.exe CMD check --no-multiarch --install=check:GSCA.install-out.txt --library=E:\biocbuild\bbs-3.21-bioc\R\library --no-vignettes --timings GSCA_2.37.0.tar.gz StartedAt: 2025-02-10 01:45:10 -0500 (Mon, 10 Feb 2025) EndedAt: 2025-02-10 01:48:37 -0500 (Mon, 10 Feb 2025) EllapsedTime: 206.8 seconds RetCode: 0 Status: OK CheckDir: GSCA.Rcheck Warnings: 0