Package: GSEABase Version: 1.69.1 Command: /Library/Frameworks/R.framework/Resources/bin/R CMD build --keep-empty-dirs --no-resave-data GSEABase StartedAt: 2025-02-12 16:32:57 -0500 (Wed, 12 Feb 2025) EndedAt: 2025-02-12 16:33:26 -0500 (Wed, 12 Feb 2025) EllapsedTime: 28.3 seconds RetCode: 0 Status: OK PackageFile: GSEABase_1.69.1.tar.gz PackageFileSize: 292.5 KiB