Package: GSEABase Version: 1.69.0 Command: /Library/Frameworks/R.framework/Resources/bin/R CMD INSTALL GSEABase StartedAt: 2025-02-09 15:09:23 -0500 (Sun, 09 Feb 2025) EndedAt: 2025-02-09 15:09:30 -0500 (Sun, 09 Feb 2025) EllapsedTime: 7.2 seconds RetCode: 0 Status: OK