Package: GSEABase Version: 1.69.0 Command: rm -rf GSEABase.buildbin-libdir && mkdir GSEABase.buildbin-libdir && /Users/biocbuild/BBS/utils/build-universal.sh GSEABase_1.69.0.tar.gz /Library/Frameworks/R.framework/Resources/bin/R GSEABase.buildbin-libdir StartedAt: 2025-02-10 00:56:53 -0500 (Mon, 10 Feb 2025) EndedAt: 2025-02-10 00:57:24 -0500 (Mon, 10 Feb 2025) EllapsedTime: 30.2 seconds RetCode: 0 Status: OK PackageFile: GSEABase_1.69.0.tgz PackageFileSize: 1 MiB