Package: GSEABase Version: 1.69.0 Command: /Library/Frameworks/R.framework/Resources/bin/R CMD check --install=check:GSEABase.install-out.txt --library=/Library/Frameworks/R.framework/Resources/library --no-vignettes --timings GSEABase_1.69.0.tar.gz StartedAt: 2025-02-09 21:09:03 -0500 (Sun, 09 Feb 2025) EndedAt: 2025-02-09 21:11:55 -0500 (Sun, 09 Feb 2025) EllapsedTime: 172.0 seconds RetCode: 0 Status: OK CheckDir: GSEABase.Rcheck Warnings: 0