Package: GSEABase Version: 1.69.0 Command: rm -rf GSEABase.buildbin-libdir && mkdir GSEABase.buildbin-libdir && E:\biocbuild\bbs-3.21-bioc\R\bin\R.exe CMD INSTALL --build --library=GSEABase.buildbin-libdir GSEABase_1.69.0.tar.gz StartedAt: 2025-02-05 08:05:20 -0500 (Wed, 05 Feb 2025) EndedAt: 2025-02-05 08:06:49 -0500 (Wed, 05 Feb 2025) EllapsedTime: 89.6 seconds RetCode: 0 Status: OK PackageFile: GSEABase_1.69.0.zip PackageFileSize: 1.001 MiB