Package: GSEABase Version: 1.69.0 Command: E:\biocbuild\bbs-3.21-bioc\R\bin\R.exe CMD check --no-multiarch --install=check:GSEABase.install-out.txt --library=E:\biocbuild\bbs-3.21-bioc\R\library --no-vignettes --timings GSEABase_1.69.0.tar.gz StartedAt: 2025-02-05 02:12:49 -0500 (Wed, 05 Feb 2025) EndedAt: 2025-02-05 02:15:49 -0500 (Wed, 05 Feb 2025) EllapsedTime: 180.3 seconds RetCode: 0 Status: OK CheckDir: GSEABase.Rcheck Warnings: 0