Package: GSEABase Version: 1.69.0 Command: E:\biocbuild\bbs-3.21-bioc\R\bin\R.exe CMD INSTALL GSEABase StartedAt: 2025-02-04 15:50:48 -0500 (Tue, 04 Feb 2025) EndedAt: 2025-02-04 15:52:09 -0500 (Tue, 04 Feb 2025) EllapsedTime: 81.6 seconds RetCode: 0 Status: OK