Package: GSEAlm Version: 1.67.0 Command: /Library/Frameworks/R.framework/Resources/bin/R CMD build --keep-empty-dirs --no-resave-data GSEAlm StartedAt: 2025-02-09 16:33:02 -0500 (Sun, 09 Feb 2025) EndedAt: 2025-02-09 16:33:21 -0500 (Sun, 09 Feb 2025) EllapsedTime: 19.2 seconds RetCode: 0 Status: OK PackageFile: GSEAlm_1.67.0.tar.gz PackageFileSize: 1.244 MiB