Package: GSEAlm Version: 1.67.0 Command: rm -rf GSEAlm.buildbin-libdir && mkdir GSEAlm.buildbin-libdir && E:\biocbuild\bbs-3.21-bioc\R\bin\R.exe CMD INSTALL --build --library=GSEAlm.buildbin-libdir GSEAlm_1.67.0.tar.gz StartedAt: 2025-02-10 07:53:42 -0500 (Mon, 10 Feb 2025) EndedAt: 2025-02-10 07:53:51 -0500 (Mon, 10 Feb 2025) EllapsedTime: 9.2 seconds RetCode: 0 Status: OK PackageFile: GSEAlm_1.67.0.zip PackageFileSize: 939.4 KiB