Package: GSEAlm Version: 1.67.0 Command: chmod a+r GSEAlm -R && E:\biocbuild\bbs-3.21-bioc\R\bin\R.exe CMD build --keep-empty-dirs --no-resave-data GSEAlm StartedAt: 2025-02-12 19:11:53 -0500 (Wed, 12 Feb 2025) EndedAt: 2025-02-12 19:12:57 -0500 (Wed, 12 Feb 2025) EllapsedTime: 63.4 seconds RetCode: 0 Status: OK PackageFile: GSEAlm_1.67.0.tar.gz PackageFileSize: 946.3 KiB