Package: GSEAmining Version: 1.17.0 Command: /Library/Frameworks/R.framework/Resources/bin/R CMD build --keep-empty-dirs --no-resave-data GSEAmining StartedAt: 2025-02-04 16:33:27 -0500 (Tue, 04 Feb 2025) EndedAt: 2025-02-04 16:33:43 -0500 (Tue, 04 Feb 2025) EllapsedTime: 16.2 seconds RetCode: 0 Status: OK PackageFile: GSEAmining_1.17.0.tar.gz PackageFileSize: 2.838 MiB