Package: GSEAmining Version: 1.17.0 Command: /Library/Frameworks/R.framework/Resources/bin/R CMD check --install=check:GSEAmining.install-out.txt --library=/Library/Frameworks/R.framework/Resources/library --no-vignettes --timings GSEAmining_1.17.0.tar.gz StartedAt: 2025-02-09 19:33:30 -0500 (Sun, 09 Feb 2025) EndedAt: 2025-02-09 19:34:05 -0500 (Sun, 09 Feb 2025) EllapsedTime: 34.4 seconds RetCode: 0 Status: OK CheckDir: GSEAmining.Rcheck Warnings: 0