Package: GSEAmining Version: 1.17.0 Command: /home/biocbuild/R/R/bin/R CMD build --keep-empty-dirs --no-resave-data GSEAmining StartedAt: 2025-01-28 23:25:51 -0000 (Tue, 28 Jan 2025) EndedAt: 2025-01-28 23:26:57 -0000 (Tue, 28 Jan 2025) EllapsedTime: 66.0 seconds RetCode: 0 Status: OK PackageFile: GSEAmining_1.17.0.tar.gz PackageFileSize: 2.031 MiB