Package: GSEAmining Version: 1.17.0 Command: /Library/Frameworks/R.framework/Resources/bin/R CMD INSTALL GSEAmining StartedAt: 2025-02-09 15:09:05 -0500 (Sun, 09 Feb 2025) EndedAt: 2025-02-09 15:09:20 -0500 (Sun, 09 Feb 2025) EllapsedTime: 15.0 seconds RetCode: 0 Status: OK