Package: GSEAmining Version: 1.17.0 Command: /home/biocbuild/bbs-3.21-bioc/R/bin/R CMD build --keep-empty-dirs --no-resave-data GSEAmining StartedAt: 2025-02-04 17:30:31 -0500 (Tue, 04 Feb 2025) EndedAt: 2025-02-04 17:31:21 -0500 (Tue, 04 Feb 2025) EllapsedTime: 50.0 seconds RetCode: 0 Status: OK PackageFile: GSEAmining_1.17.0.tar.gz PackageFileSize: 2.814 MiB