Package: GSEAmining Version: 1.17.0 Command: E:\biocbuild\bbs-3.21-bioc\R\bin\R.exe CMD INSTALL GSEAmining StartedAt: 2025-02-09 15:32:35 -0500 (Sun, 09 Feb 2025) EndedAt: 2025-02-09 15:32:54 -0500 (Sun, 09 Feb 2025) EllapsedTime: 18.7 seconds RetCode: 0 Status: OK