Package: GSRI Version: 2.55.0 Command: rm -rf GSRI.buildbin-libdir && mkdir GSRI.buildbin-libdir && /Users/biocbuild/BBS/utils/build-universal.sh GSRI_2.55.0.tar.gz /Library/Frameworks/R.framework/Resources/bin/R GSRI.buildbin-libdir StartedAt: 2025-02-09 22:16:51 -0500 (Sun, 09 Feb 2025) EndedAt: 2025-02-09 22:17:00 -0500 (Sun, 09 Feb 2025) EllapsedTime: 9.2 seconds RetCode: 0 Status: OK PackageFile: GSRI_2.55.0.tgz PackageFileSize: 673 KiB