Package: GSRI Version: 2.55.0 Command: /Library/Frameworks/R.framework/Resources/bin/R CMD build --keep-empty-dirs --no-resave-data GSRI StartedAt: 2025-02-04 16:33:49 -0500 (Tue, 04 Feb 2025) EndedAt: 2025-02-04 16:34:08 -0500 (Tue, 04 Feb 2025) EllapsedTime: 19.2 seconds RetCode: 0 Status: OK PackageFile: GSRI_2.55.0.tar.gz PackageFileSize: 339.3 KiB