Package: GSRI Version: 2.55.0 Command: rm -rf GSRI.buildbin-libdir && mkdir GSRI.buildbin-libdir && /Users/biocbuild/BBS/utils/build-universal.sh GSRI_2.55.0.tar.gz /Library/Frameworks/R.framework/Resources/bin/R GSRI.buildbin-libdir StartedAt: 2025-02-05 00:43:20 -0500 (Wed, 05 Feb 2025) EndedAt: 2025-02-05 00:43:51 -0500 (Wed, 05 Feb 2025) EllapsedTime: 31.4 seconds RetCode: 0 Status: OK PackageFile: GSRI_2.55.0.tgz PackageFileSize: 672.6 KiB