Package: GSRI Version: 2.55.0 Command: /Library/Frameworks/R.framework/Resources/bin/R CMD INSTALL GSRI StartedAt: 2025-02-09 15:32:17 -0500 (Sun, 09 Feb 2025) EndedAt: 2025-02-09 15:32:46 -0500 (Sun, 09 Feb 2025) EllapsedTime: 29.5 seconds RetCode: 0 Status: OK