Package: GSRI Version: 2.55.0 Command: /home/biocbuild/bbs-3.21-bioc/R/bin/R CMD build --keep-empty-dirs --no-resave-data GSRI StartedAt: 2025-02-09 17:33:09 -0500 (Sun, 09 Feb 2025) EndedAt: 2025-02-09 17:33:48 -0500 (Sun, 09 Feb 2025) EllapsedTime: 39.1 seconds RetCode: 0 Status: OK PackageFile: GSRI_2.55.0.tar.gz PackageFileSize: 338.8 KiB