Package: GSRI Version: 2.55.0 Command: /home/biocbuild/bbs-3.21-bioc/R/bin/R CMD INSTALL GSRI StartedAt: 2025-02-09 15:30:40 -0500 (Sun, 09 Feb 2025) EndedAt: 2025-02-09 15:31:00 -0500 (Sun, 09 Feb 2025) EllapsedTime: 19.6 seconds RetCode: 0 Status: OK