Package: GSRI Version: 2.55.0 Command: E:\biocbuild\bbs-3.21-bioc\R\bin\R.exe CMD INSTALL GSRI StartedAt: 2025-02-04 16:27:32 -0500 (Tue, 04 Feb 2025) EndedAt: 2025-02-04 16:28:11 -0500 (Tue, 04 Feb 2025) EllapsedTime: 38.8 seconds RetCode: 0 Status: OK