Package: GSReg Version: 1.41.0 Command: /Library/Frameworks/R.framework/Resources/bin/R CMD check --install=check:GSReg.install-out.txt --library=/Library/Frameworks/R.framework/Resources/library --no-vignettes --timings GSReg_1.41.0.tar.gz StartedAt: 2025-02-09 21:09:29 -0500 (Sun, 09 Feb 2025) EndedAt: 2025-02-09 21:12:43 -0500 (Sun, 09 Feb 2025) EllapsedTime: 193.6 seconds RetCode: 0 Status: WARNINGS CheckDir: GSReg.Rcheck Warnings: 3