Package: GSReg Version: 1.41.0 Command: /Library/Frameworks/R.framework/Resources/bin/R CMD INSTALL GSReg StartedAt: 2025-02-09 15:22:48 -0500 (Sun, 09 Feb 2025) EndedAt: 2025-02-09 15:23:44 -0500 (Sun, 09 Feb 2025) EllapsedTime: 55.4 seconds RetCode: 0 Status: OK