Package: GSReg Version: 1.41.0 Command: /home/biocbuild/bbs-3.21-bioc/R/bin/R CMD build --keep-empty-dirs --no-resave-data GSReg StartedAt: 2025-02-09 17:33:09 -0500 (Sun, 09 Feb 2025) EndedAt: 2025-02-09 17:34:42 -0500 (Sun, 09 Feb 2025) EllapsedTime: 93.2 seconds RetCode: 0 Status: OK PackageFile: GSReg_1.41.0.tar.gz PackageFileSize: 466.5 KiB