Package: GSReg Version: 1.41.0 Command: /home/biocbuild/bbs-3.21-bioc/R/bin/R CMD check --install=check:GSReg.install-out.txt --library=/home/biocbuild/bbs-3.21-bioc/R/site-library --timings GSReg_1.41.0.tar.gz StartedAt: 2025-02-03 23:05:20 -0500 (Mon, 03 Feb 2025) EndedAt: 2025-02-03 23:09:29 -0500 (Mon, 03 Feb 2025) EllapsedTime: 249.4 seconds RetCode: 0 Status: WARNINGS CheckDir: GSReg.Rcheck Warnings: 3