Package: GSReg Version: 1.41.0 Command: /home/biocbuild/bbs-3.21-bioc/R/bin/R CMD INSTALL GSReg StartedAt: 2025-02-09 15:58:26 -0500 (Sun, 09 Feb 2025) EndedAt: 2025-02-09 15:59:08 -0500 (Sun, 09 Feb 2025) EllapsedTime: 41.4 seconds RetCode: 0 Status: OK