Package: GSgalgoR Version: 1.17.0 Command: /Library/Frameworks/R.framework/Resources/bin/R CMD check --install=check:GSgalgoR.install-out.txt --library=/Library/Frameworks/R.framework/Resources/library --no-vignettes --timings GSgalgoR_1.17.0.tar.gz StartedAt: 2025-02-09 19:33:36 -0500 (Sun, 09 Feb 2025) EndedAt: 2025-02-09 19:34:47 -0500 (Sun, 09 Feb 2025) EllapsedTime: 70.8 seconds RetCode: 0 Status: OK CheckDir: GSgalgoR.Rcheck Warnings: 0