Package: GSgalgoR Version: 1.17.0 Command: /Library/Frameworks/R.framework/Resources/bin/R CMD INSTALL GSgalgoR StartedAt: 2025-02-03 15:54:28 -0500 (Mon, 03 Feb 2025) EndedAt: 2025-02-03 15:54:29 -0500 (Mon, 03 Feb 2025) EllapsedTime: 1.0 seconds RetCode: 0 Status: OK