Package: GSgalgoR Version: 1.17.0 Command: /home/biocbuild/R/R/bin/R CMD INSTALL GSgalgoR StartedAt: 2025-01-29 20:15:13 -0000 (Wed, 29 Jan 2025) EndedAt: 2025-01-29 20:15:16 -0000 (Wed, 29 Jan 2025) EllapsedTime: 3.0 seconds RetCode: 0 Status: OK