Package: GSgalgoR Version: 1.17.0 Command: rm -rf GSgalgoR.buildbin-libdir && mkdir GSgalgoR.buildbin-libdir && /Users/biocbuild/BBS/utils/build-universal.sh GSgalgoR_1.17.0.tar.gz /Library/Frameworks/R.framework/Resources/bin/R GSgalgoR.buildbin-libdir StartedAt: 2025-02-04 00:37:33 -0500 (Tue, 04 Feb 2025) EndedAt: 2025-02-04 00:37:41 -0500 (Tue, 04 Feb 2025) EllapsedTime: 7.1 seconds RetCode: 0 Status: OK PackageFile: GSgalgoR_1.17.0.tgz PackageFileSize: 2.874 MiB