Package: GSgalgoR Version: 1.17.0 Command: /Library/Frameworks/R.framework/Resources/bin/R CMD check --install=check:GSgalgoR.install-out.txt --library=/Library/Frameworks/R.framework/Resources/library --no-vignettes --timings GSgalgoR_1.17.0.tar.gz StartedAt: 2025-02-03 20:57:46 -0500 (Mon, 03 Feb 2025) EndedAt: 2025-02-03 21:01:27 -0500 (Mon, 03 Feb 2025) EllapsedTime: 221.0 seconds RetCode: 0 Status: OK CheckDir: GSgalgoR.Rcheck Warnings: 0