Package: GSgalgoR Version: 1.17.0 Command: /Library/Frameworks/R.framework/Resources/bin/R CMD INSTALL GSgalgoR StartedAt: 2025-02-09 15:31:23 -0500 (Sun, 09 Feb 2025) EndedAt: 2025-02-09 15:31:27 -0500 (Sun, 09 Feb 2025) EllapsedTime: 3.6 seconds RetCode: 0 Status: OK