Package: GSgalgoR Version: 1.17.0 Command: /home/biocbuild/bbs-3.21-bioc/R/bin/R CMD build --keep-empty-dirs --no-resave-data GSgalgoR StartedAt: 2025-02-09 17:33:02 -0500 (Sun, 09 Feb 2025) EndedAt: 2025-02-09 17:34:36 -0500 (Sun, 09 Feb 2025) EllapsedTime: 94.2 seconds RetCode: 0 Status: OK PackageFile: GSgalgoR_1.17.0.tar.gz PackageFileSize: 2.8 MiB