Package: GSgalgoR Version: 1.17.0 Command: /home/biocbuild/bbs-3.21-bioc/R/bin/R CMD check --install=check:GSgalgoR.install-out.txt --library=/home/biocbuild/bbs-3.21-bioc/R/site-library --timings GSgalgoR_1.17.0.tar.gz StartedAt: 2025-02-09 22:57:44 -0500 (Sun, 09 Feb 2025) EndedAt: 2025-02-09 23:02:30 -0500 (Sun, 09 Feb 2025) EllapsedTime: 285.5 seconds RetCode: 0 Status: OK CheckDir: GSgalgoR.Rcheck Warnings: 0