Package: GSgalgoR Version: 1.17.0 Command: /home/biocbuild/bbs-3.21-bioc/R/bin/R CMD INSTALL GSgalgoR StartedAt: 2025-02-09 15:06:27 -0500 (Sun, 09 Feb 2025) EndedAt: 2025-02-09 15:07:06 -0500 (Sun, 09 Feb 2025) EllapsedTime: 39.3 seconds RetCode: 0 Status: OK