Package: GSgalgoR Version: 1.17.0 Command: chmod a+r GSgalgoR -R && E:\biocbuild\bbs-3.21-bioc\R\bin\R.exe CMD build --keep-empty-dirs --no-resave-data GSgalgoR StartedAt: 2025-02-03 19:19:21 -0500 (Mon, 03 Feb 2025) EndedAt: 2025-02-03 19:21:51 -0500 (Mon, 03 Feb 2025) EllapsedTime: 150.2 seconds RetCode: 0 Status: OK PackageFile: GSgalgoR_1.17.0.tar.gz PackageFileSize: 2.148 MiB