Package: GSgalgoR Version: 1.17.0 Command: E:\biocbuild\bbs-3.21-bioc\R\bin\R.exe CMD check --no-multiarch --install=check:GSgalgoR.install-out.txt --library=E:\biocbuild\bbs-3.21-bioc\R\library --no-vignettes --timings GSgalgoR_1.17.0.tar.gz StartedAt: 2025-02-10 01:46:33 -0500 (Mon, 10 Feb 2025) EndedAt: 2025-02-10 01:50:13 -0500 (Mon, 10 Feb 2025) EllapsedTime: 220.6 seconds RetCode: 0 Status: OK CheckDir: GSgalgoR.Rcheck Warnings: 0