Package: GSgalgoR Version: 1.17.0 Command: E:\biocbuild\bbs-3.21-bioc\R\bin\R.exe CMD INSTALL GSgalgoR StartedAt: 2025-02-03 16:07:35 -0500 (Mon, 03 Feb 2025) EndedAt: 2025-02-03 16:07:51 -0500 (Mon, 03 Feb 2025) EllapsedTime: 16.6 seconds RetCode: 0 Status: OK