Package: GUIDEseq Version: 1.37.0 Command: rm -rf GUIDEseq.buildbin-libdir && mkdir GUIDEseq.buildbin-libdir && /Users/biocbuild/BBS/utils/build-universal.sh GUIDEseq_1.37.0.tar.gz /Library/Frameworks/R.framework/Resources/bin/R GUIDEseq.buildbin-libdir StartedAt: 2025-02-09 22:16:54 -0500 (Sun, 09 Feb 2025) EndedAt: 2025-02-09 22:17:17 -0500 (Sun, 09 Feb 2025) EllapsedTime: 22.4 seconds RetCode: 0 Status: OK PackageFile: GUIDEseq_1.37.0.tgz PackageFileSize: 6.093 MiB